BEGIN:VCALENDAR
VERSION:2.0
PRODID:-//Igreja Batista Filadélfia | IBF Feira de Santana - Bahia - ECPv6.6.3//NONSGML v1.0//EN
CALSCALE:GREGORIAN
METHOD:PUBLISH
X-WR-CALNAME:Igreja Batista Filadélfia | IBF Feira de Santana - Bahia
X-ORIGINAL-URL:https://igrejabatistafiladelfia.org
X-WR-CALDESC:Eventos para Igreja Batista Filadélfia | IBF Feira de Santana - Bahia
REFRESH-INTERVAL;VALUE=DURATION:PT1H
X-Robots-Tag:noindex
X-PUBLISHED-TTL:PT1H
BEGIN:VTIMEZONE
TZID:America/Sao_Paulo
BEGIN:STANDARD
TZOFFSETFROM:-0300
TZOFFSETTO:-0300
TZNAME:-03
DTSTART:20240101T000000
END:STANDARD
END:VTIMEZONE
BEGIN:VEVENT
DTSTART;VALUE=DATE:20250223
DTEND;VALUE=DATE:20250224
DTSTAMP:20260423T034723
CREATED:20250110T114033Z
LAST-MODIFIED:20250110T114033Z
UID:2977-1740268800-1740355199@igrejabatistafiladelfia.org
SUMMARY:Retorno Rede de Crianças
DESCRIPTION:
URL:https://igrejabatistafiladelfia.org/event/retorno-rede-de-criancas/
CATEGORIES:Calendário de Atividades
END:VEVENT
BEGIN:VEVENT
DTSTART;VALUE=DATE:20250221
DTEND;VALUE=DATE:20250222
DTSTAMP:20260423T034723
CREATED:20250110T113951Z
LAST-MODIFIED:20250110T113951Z
UID:2975-1740096000-1740182399@igrejabatistafiladelfia.org
SUMMARY:Início Futebol MOBI (Associação)
DESCRIPTION:
URL:https://igrejabatistafiladelfia.org/event/inicio-futebol-mobi-associacao/
CATEGORIES:Calendário de Atividades
END:VEVENT
BEGIN:VEVENT
DTSTART;VALUE=DATE:20250221
DTEND;VALUE=DATE:20250222
DTSTAMP:20260423T034723
CREATED:20250110T113846Z
LAST-MODIFIED:20250110T113846Z
UID:2973-1740096000-1740182399@igrejabatistafiladelfia.org
SUMMARY:Início gravações Podcast Missão 12
DESCRIPTION:
URL:https://igrejabatistafiladelfia.org/event/inicio-gravacoes-podcast-missao-12/
CATEGORIES:Calendário de Atividades
END:VEVENT
BEGIN:VEVENT
DTSTART;VALUE=DATE:20250219
DTEND;VALUE=DATE:20250220
DTSTAMP:20260423T034723
CREATED:20250110T113800Z
LAST-MODIFIED:20250110T113800Z
UID:2971-1739923200-1740009599@igrejabatistafiladelfia.org
SUMMARY:Retorno da Partilha de Mulheres
DESCRIPTION:
URL:https://igrejabatistafiladelfia.org/event/retorno-da-partilha-de-mulheres/
CATEGORIES:Calendário de Atividades
END:VEVENT
BEGIN:VEVENT
DTSTART;VALUE=DATE:20250218
DTEND;VALUE=DATE:20250219
DTSTAMP:20260423T034723
CREATED:20250110T113708Z
LAST-MODIFIED:20250110T113708Z
UID:2968-1739836800-1739923199@igrejabatistafiladelfia.org
SUMMARY:Retorno Projeto Noás
DESCRIPTION:
URL:https://igrejabatistafiladelfia.org/event/retorno-projeto-noas/
LOCATION:Igreja Batista Filadélfia\, R. Profa. Edelvira de Oliveira\, 679\, Feira de Santana\, Bahia\, 40301-110\, Brazil
CATEGORIES:Calendário de Atividades
END:VEVENT
BEGIN:VEVENT
DTSTART;VALUE=DATE:20250215
DTEND;VALUE=DATE:20250216
DTSTAMP:20260423T034723
CREATED:20250110T113616Z
LAST-MODIFIED:20250110T113616Z
UID:2966-1739577600-1739663999@igrejabatistafiladelfia.org
SUMMARY:Retorno Escolinha 12º Jogador
DESCRIPTION:
URL:https://igrejabatistafiladelfia.org/event/retorno-escolinha-12o-jogador/
LOCATION:Igreja Batista Filadélfia\, R. Profa. Edelvira de Oliveira\, 679\, Feira de Santana\, Bahia\, 40301-110\, Brazil
CATEGORIES:Calendário de Atividades
END:VEVENT
BEGIN:VEVENT
DTSTART;VALUE=DATE:20250215
DTEND;VALUE=DATE:20250216
DTSTAMP:20260423T034723
CREATED:20250110T113523Z
LAST-MODIFIED:20250110T113523Z
UID:2964-1739577600-1739663999@igrejabatistafiladelfia.org
SUMMARY:Retorno da MOBI
DESCRIPTION:
URL:https://igrejabatistafiladelfia.org/event/retorno-da-mobi/
CATEGORIES:Calendário de Atividades
END:VEVENT
BEGIN:VEVENT
DTSTART;VALUE=DATE:20250212
DTEND;VALUE=DATE:20250213
DTSTAMP:20260423T034723
CREATED:20250110T113432Z
LAST-MODIFIED:20250110T113432Z
UID:2962-1739318400-1739404799@igrejabatistafiladelfia.org
SUMMARY:Retorno Rede de Homens
DESCRIPTION:
URL:https://igrejabatistafiladelfia.org/event/retorno-rede-de-homens/
LOCATION:Igreja Batista Filadélfia\, R. Profa. Edelvira de Oliveira\, 679\, Feira de Santana\, Bahia\, 40301-110\, Brazil
CATEGORIES:Calendário de Atividades
END:VEVENT
BEGIN:VEVENT
DTSTART;VALUE=DATE:20250211
DTEND;VALUE=DATE:20250212
DTSTAMP:20260423T034723
CREATED:20250110T113350Z
LAST-MODIFIED:20250110T113350Z
UID:2960-1739232000-1739318399@igrejabatistafiladelfia.org
SUMMARY:Retorno Grupos de Vida GV's
DESCRIPTION:
URL:https://igrejabatistafiladelfia.org/event/retorno-grupos-de-vida-gvs/
LOCATION:Igreja Batista Filadélfia\, R. Profa. Edelvira de Oliveira\, 679\, Feira de Santana\, Bahia\, 40301-110\, Brazil
CATEGORIES:Calendário de Atividades
END:VEVENT
BEGIN:VEVENT
DTSTART;VALUE=DATE:20250209
DTEND;VALUE=DATE:20250210
DTSTAMP:20260423T034723
CREATED:20250110T113235Z
LAST-MODIFIED:20250110T113235Z
UID:2958-1739059200-1739145599@igrejabatistafiladelfia.org
SUMMARY:Retorno EBD
DESCRIPTION:
URL:https://igrejabatistafiladelfia.org/event/retorno-ebd/
LOCATION:Igreja Batista Filadélfia\, R. Profa. Edelvira de Oliveira\, 679\, Feira de Santana\, Bahia\, 40301-110\, Brazil
CATEGORIES:Calendário de Atividades
END:VEVENT
BEGIN:VEVENT
DTSTART;VALUE=DATE:20250208
DTEND;VALUE=DATE:20250209
DTSTAMP:20260423T034723
CREATED:20250110T113107Z
LAST-MODIFIED:20250110T113107Z
UID:2956-1738972800-1739059199@igrejabatistafiladelfia.org
SUMMARY:Retorno Rede de Casais
DESCRIPTION:
URL:https://igrejabatistafiladelfia.org/event/retorno-rede-de-casais/
LOCATION:Igreja Batista Filadélfia\, R. Profa. Edelvira de Oliveira\, 679\, Feira de Santana\, Bahia\, 40301-110\, Brazil
CATEGORIES:Calendário de Atividades
END:VEVENT
BEGIN:VEVENT
DTSTART;VALUE=DATE:20250206
DTEND;VALUE=DATE:20250207
DTSTAMP:20260423T034723
CREATED:20250110T112843Z
LAST-MODIFIED:20250110T112843Z
UID:2952-1738800000-1738886399@igrejabatistafiladelfia.org
SUMMARY:Retorno Oficinas 60+
DESCRIPTION:
URL:https://igrejabatistafiladelfia.org/event/retorno-oficinas-60/
LOCATION:Igreja Batista Filadélfia\, R. Profa. Edelvira de Oliveira\, 679\, Feira de Santana\, Bahia\, 40301-110\, Brazil
CATEGORIES:Calendário de Atividades
END:VEVENT
BEGIN:VEVENT
DTSTART;VALUE=DATE:20250205
DTEND;VALUE=DATE:20250206
DTSTAMP:20260423T034723
CREATED:20250110T112959Z
LAST-MODIFIED:20250110T112959Z
UID:2954-1738713600-1738799999@igrejabatistafiladelfia.org
SUMMARY:Retorno Culto das Maravilhas
DESCRIPTION:
URL:https://igrejabatistafiladelfia.org/event/retorno-culto-das-maravilhas/
LOCATION:Igreja Batista Filadélfia\, R. Profa. Edelvira de Oliveira\, 679\, Feira de Santana\, Bahia\, 40301-110\, Brazil
CATEGORIES:Calendário de Atividades
END:VEVENT
BEGIN:VEVENT
DTSTART;VALUE=DATE:20250205
DTEND;VALUE=DATE:20250206
DTSTAMP:20260423T034723
CREATED:20250107T212054Z
LAST-MODIFIED:20250107T212054Z
UID:2950-1738713600-1738799999@igrejabatistafiladelfia.org
SUMMARY:Retorno Rede de Mulheres
DESCRIPTION:
URL:https://igrejabatistafiladelfia.org/event/retorno-rede-de-mulheres/
LOCATION:Igreja Batista Filadélfia\, R. Profa. Edelvira de Oliveira\, 679\, Feira de Santana\, Bahia\, 40301-110\, Brazil
CATEGORIES:Calendário de Atividades
END:VEVENT
BEGIN:VEVENT
DTSTART;VALUE=DATE:20250203
DTEND;VALUE=DATE:20250204
DTSTAMP:20260423T034723
CREATED:20250107T212001Z
LAST-MODIFIED:20250107T212001Z
UID:2948-1738540800-1738627199@igrejabatistafiladelfia.org
SUMMARY:Início do MPQ (Multiplique MOBI)
DESCRIPTION:
URL:https://igrejabatistafiladelfia.org/event/inicio-do-mpq-multiplique-mobi/
CATEGORIES:Calendário de Atividades
END:VEVENT
BEGIN:VEVENT
DTSTART;VALUE=DATE:20250202
DTEND;VALUE=DATE:20250203
DTSTAMP:20260423T034723
CREATED:20250107T211833Z
LAST-MODIFIED:20250107T211833Z
UID:2945-1738454400-1738540799@igrejabatistafiladelfia.org
SUMMARY:Culto de Ceia e retorno da EBD Crianças
DESCRIPTION:
URL:https://igrejabatistafiladelfia.org/event/culto-de-ceia-e-retorno-da-ebd-criancas/
LOCATION:Igreja Batista Filadélfia\, R. Profa. Edelvira de Oliveira\, 679\, Feira de Santana\, Bahia\, 40301-110\, Brazil
CATEGORIES:Calendário de Atividades
END:VEVENT
BEGIN:VEVENT
DTSTART;TZID=America/Sao_Paulo:20241225T190000
DTEND;TZID=America/Sao_Paulo:20241225T213000
DTSTAMP:20260423T034723
CREATED:20241121T210800Z
LAST-MODIFIED:20241230T215700Z
UID:2889-1735153200-1735162200@igrejabatistafiladelfia.org
SUMMARY:Culto de Natal
DESCRIPTION:No dia 25 de dezembro\, nos reunimos para o Culto de Natal e celebramos o nascimento de Jesus Cristo\, nosso Salvador! Foi uma noite de adoração\, reflexão e muita alegria\, focando na esperança que Ele traz ao mundo. \nDurante o culto\, tivemos uma cantata emocionante\, apresentada pelo coral da igreja\, com canções que exaltaram a beleza e o poder do nascimento de Cristo. \nAgradecemos a todos que compartilharam desse momento especial conosco\, renovando a fé e o espírito natalino. Esperamos que todos tenham vivido uma celebração de gratidão e louvor! \nConfira o vídeo e reviva esse momento abençoado conosco!
URL:https://igrejabatistafiladelfia.org/event/culto-de-natal/
LOCATION:Igreja Batista Filadélfia\, R. Profa. Edelvira de Oliveira\, 679\, Feira de Santana\, Bahia\, 40301-110\, Brazil
CATEGORIES:Calendário de Atividades,Eventos Especiais
ATTACH;FMTTYPE=image/jpeg:https://igrejabatistafiladelfia.org/wp-content/uploads/2024/11/cantata-de-natal-2024-ibf.jpg
END:VEVENT
BEGIN:VEVENT
DTSTART;TZID=America/Sao_Paulo:20241128T190000
DTEND;TZID=America/Sao_Paulo:20241128T203000
DTSTAMP:20260423T034723
CREATED:20241121T204729Z
LAST-MODIFIED:20241121T204729Z
UID:2883-1732820400-1732825800@igrejabatistafiladelfia.org
SUMMARY:GV e oficinas "Tudo novo de novo"
DESCRIPTION:No dia 28 de novembro\, teremos uma noite muito especial com o GV (Grupo de Vida) e as oficinas “Tudo Novo de Novo”! Os Grupos de Vida acontecem em vários locais da cidade\, e você pode participar do que for mais próximo de você. \nO GV é um espaço para crescer espiritualmente\, estudar a Bíblia\, orar em comunhão e fortalecer os laços de amizade com outros irmãos e irmãs. Além disso\, teremos as oficinas “Tudo Novo de Novo”\, que proporcionarão momentos de aprendizado e renovação\, ajudando você a dar novos passos em sua vida espiritual e pessoal. \nEssa é uma oportunidade incrível para se renovar e vivenciar experiências que transformarão a sua jornada com Deus. Não perca! \nEscolha o GV mais próximo e venha participar das oficinas! Vamos juntos viver tudo novo que Deus tem para nós!
URL:https://igrejabatistafiladelfia.org/event/gv-e-oficinas-tudo-novo-de-novo/
CATEGORIES:Calendário de Atividades
END:VEVENT
BEGIN:VEVENT
DTSTART;TZID=America/Sao_Paulo:20241127T190000
DTEND;TZID=America/Sao_Paulo:20241127T203000
DTSTAMP:20260423T034723
CREATED:20241121T203940Z
LAST-MODIFIED:20241121T204009Z
UID:2881-1732734000-1732739400@igrejabatistafiladelfia.org
SUMMARY:Alinhamento Ministerial
DESCRIPTION:No dia 27 de novembro\, teremos mais um encontro do Alinhamento Ministerial\, uma reunião fundamental para todos os líderes da nossa igreja. Esse momento\, conduzido pelo Pr. Antonio José\, é uma oportunidade para nos unirmos\, alinharmos nossa visão e estratégias\, e buscar orientação de Deus para cumprir com excelência o chamado ministerial de cada um. \nO Alinhamento Ministerial acontece a cada 15 dias e é essencial para mantermos nossa unidade\, direcionamento e foco em tudo o que Deus deseja realizar através de nós na igreja e na comunidade. \nLíderes\, este é um momento de grande importância para o crescimento do nosso ministério. Contamos com sua presença e comprometimento! \n🕖 Data: 27 de novembro\n⏰ Horário: 19H\n📍 Local: Igreja Batista Filadélfia \nVamos juntos fortalecer nossa liderança e avançar no propósito de Deus para nossa igreja!
URL:https://igrejabatistafiladelfia.org/event/alinhamento-ministerial/
CATEGORIES:Calendário de Atividades
END:VEVENT
BEGIN:VEVENT
DTSTART;TZID=America/Sao_Paulo:20241126T190000
DTEND;TZID=America/Sao_Paulo:20241126T203000
DTSTAMP:20260423T034723
CREATED:20241121T203529Z
LAST-MODIFIED:20241121T203604Z
UID:2877-1732647600-1732653000@igrejabatistafiladelfia.org
SUMMARY:GVs nas casas
DESCRIPTION:O GV (Grupo de Vida) é uma oportunidade incrível para crescer na fé\, aprender mais sobre a palavra de Deus e compartilhar momentos de comunhão com irmãos e irmãs em Cristo. No dia 26 de novembro\, teremos mais um encontro especial em diversos locais da cidade\, e você está convidado a participar! \nNos Grupos de Vida\, buscamos juntos estudar a Bíblia\, orar uns pelos outros e fortalecer nossos laços espirituais. Seja você novo na caminhada cristã ou já com uma jornada longa\, este é um espaço para aprofundar sua fé e viver em comunidade. \nA Bíblia nos ensina a importância da comunhão\, como em Hebreus 10:24-25:\n“E consideremo-nos uns aos outros\, para nos estimularmos ao amor e às boas obras\, não deixando a nossa congregação\, como é costume de alguns\, mas admoestando-nos uns aos outros\, e tanto mais quanto vedes que se vai aproximando aquele dia.” \nNão perca essa chance de fazer parte dessa jornada de crescimento espiritual e apoio mútuo. Venha se conectar\, aprender e ser abençoado! \n🕖 Data: 26 de novembro\n📍 Locais: Diversos pontos da cidade \nEsperamos por você no próximo GV!
URL:https://igrejabatistafiladelfia.org/event/gvs-nas-casas/
CATEGORIES:Calendário de Atividades
END:VEVENT
BEGIN:VEVENT
DTSTART;TZID=America/Sao_Paulo:20241125T190000
DTEND;TZID=America/Sao_Paulo:20241125T190000
DTSTAMP:20260423T034723
CREATED:20241121T203210Z
LAST-MODIFIED:20241121T203226Z
UID:2875-1732561200-1732561200@igrejabatistafiladelfia.org
SUMMARY:Escola de Intercessão
DESCRIPTION:Na segunda-feira (25/11)\, temos o privilégio de nos reunir para a Escola de Intercessão\, um momento poderoso de oração e intercessão pela nossa cidade\, famílias e necessidades específicas. A intercessão é uma arma espiritual transformadora\, pois quando intercedemos\, alinhamos nossos corações com a vontade de Deus\, pedindo e declarando Sua ação divina sobre as situações que nos cercam. \nA Bíblia nos ensina sobre o poder da oração intercessora\, como em 1 Timóteo 2:1-2\, onde Paulo diz:\n“Exorto\, antes de tudo\, que se façam súplicas\, orações\, intercessões e ações de graças por todos os homens\, pelos reis e por todos os que estão em eminência\, para que tenhamos uma vida tranquila e sossegada\, em toda piedade e respeito.” \nNa Escola de Intercessão\, nos unimos em fé\, crendo que Deus ouve e responde nossas orações. Venha fazer parte desse mover de intercessão e ser instrumento de mudança através da oração!
URL:https://igrejabatistafiladelfia.org/event/escola-de-intercessao/
CATEGORIES:Calendário de Atividades
END:VEVENT
BEGIN:VEVENT
DTSTART;TZID=America/Sao_Paulo:20241123T190000
DTEND;TZID=America/Sao_Paulo:20241123T203000
DTSTAMP:20260423T034723
CREATED:20241121T202047Z
LAST-MODIFIED:20241121T205404Z
UID:2870-1732388400-1732393800@igrejabatistafiladelfia.org
SUMMARY:XII Congresso de Mulheres
DESCRIPTION:Está chegando o XII Congresso de Mulheres – Renovadamente: Mulheres com uma Nova Mentalidade! \nSerão dois dias de momentos especiais de comunhão\, aprendizado e transformação que vão impactar profundamente sua vida. Prepare-se para viver algo único e ser renovada por completo em todas as áreas! \nNão perca essa oportunidade de crescer espiritualmente e experimentar um novo nível de fé. Convide suas amigas e venha fazer parte deste tempo incrível! \n📅 Data: 22 e 23 de novembro\n📍 Local: Igreja Batista Filadélfia\n🌸 Horário: 19H \nEsperamos por você para viver esse tempo de renovação e poder!
URL:https://igrejabatistafiladelfia.org/event/xii-congresso-de-mulheres-renovadamente-mulheres-com-uma-nova-mentalidade/
CATEGORIES:Calendário de Atividades
END:VEVENT
BEGIN:VEVENT
DTSTART;TZID=America/Sao_Paulo:20241018T190000
DTEND;TZID=America/Sao_Paulo:20241020T120000
DTSTAMP:20260423T034723
CREATED:20240830T124902Z
LAST-MODIFIED:20240911T190922Z
UID:2477-1729278000-1729425600@igrejabatistafiladelfia.org
SUMMARY:Renovo de Homens
DESCRIPTION:Nos dias 18 a 20 de outubro de 2024\, o Retiro Espiritual “Renovo de Homens” promete ser um evento transformador e inspirador para todos os participantes. Este retiro é uma oportunidade única para homens de todas as idades se reunirem em um ambiente de reflexão e crescimento espiritual\, com o objetivo de revitalizar suas vidas e fortalecer seu relacionamento com Deus. \nO “Renovo de Homens” acontecerá em um local tranquilo e acolhedor\, ideal para uma imersão profunda nas práticas espirituais e no autoconhecimento. Durante os três dias\, os participantes terão a chance de se distanciar das pressões do cotidiano e se concentrar em aspectos fundamentais de sua fé e vocação. \nO programa do retiro incluirá uma série de palestras e workshops liderados por renomados palestrantes e mentores espirituais. Esses encontros abordarão temas cruciais como liderança cristã\, desenvolvimento pessoal\, e como aplicar os princípios bíblicos no dia a dia. Além das palestras\, haverá momentos de oração e meditação\, permitindo que cada participante busque uma renovação espiritual e encontre novas direções para sua vida. \nAtividades de grupo e dinâmicas interativas também farão parte do evento\, proporcionando oportunidades para os participantes se conectarem uns com os outros\, compartilharem experiências e fortalecerem laços de camaradagem e apoio mútuo. Haverá momentos de lazer e convivência que favorecerão o descanso e a reflexão\, além de uma série de desafios e atividades ao ar livre que estimularão o trabalho em equipe e o crescimento pessoal. \nO “Renovo de Homens” é mais do que um simples retiro; é uma chance de redescobrir a essência da vida cristã\, renovar o compromisso com os valores espirituais e encontrar força para enfrentar os desafios da vida com renovado vigor. É um convite para uma jornada interior que promete trazer clareza\, transformação e uma nova perspectiva sobre o papel de cada um na missão divina. \nNão perca a oportunidade de participar deste evento que promete ser um marco em sua vida espiritual. Inscreva-se já e prepare-se para uma experiência que\, sem dúvida\, proporcionará renovação e crescimento\, tanto em sua caminhada pessoal quanto em sua jornada de fé.
URL:https://igrejabatistafiladelfia.org/event/renovo-de-homens/
CATEGORIES:Calendário de Atividades
ATTACH;FMTTYPE=image/jpeg:https://igrejabatistafiladelfia.org/wp-content/uploads/2024/08/homens.jpg
END:VEVENT
BEGIN:VEVENT
DTSTART;TZID=America/Sao_Paulo:20240929T180000
DTEND;TZID=America/Sao_Paulo:20240929T210000
DTSTAMP:20260423T034723
CREATED:20240830T153258Z
LAST-MODIFIED:20240911T190905Z
UID:2480-1727632800-1727643600@igrejabatistafiladelfia.org
SUMMARY:45º Aniversário da IBF
DESCRIPTION:No dia 29 de setembro de 2024\, a Igreja Batista Independente Filadélfia (IBF) celebrará com grande alegria e gratidão seus 45 anos de existência. Este marco significativo é um testemunho de décadas de fé inabalável\, dedicação e compromisso com a Palavra de Deus e com a missão divina que orientou cada passo da trajetória da igreja. \nDesde sua fundação\, a IBF tem sido uma luz de esperança e um pilar de força para a comunidade\, oferecendo um espaço de adoração\, ensino e apoio espiritual. Ao longo de seus 45 anos\, a igreja se transformou\, amadureceu e se consolidou como um centro vibrante de vida cristã\, impactando vidas e expandindo seu alcance de maneira significativa. \nA celebração do aniversário será um momento especial para refletir sobre o passado\, agradecer pelo presente e vislumbrar o futuro. O evento contará com uma programação rica e diversificada\, incluindo cultos de ação de graças\, testemunhos inspiradores\, apresentações musicais e atividades que celebram a rica história e a missão contínua da IBF. Será um tempo para reconhecer o papel fundamental que a igreja desempenha na vida de seus membros e na comunidade ao seu redor. \nDurante essas quatro décadas e meia\, a IBF tem se dedicado a viver os princípios cristãos e a levar a mensagem de salvação a todos os cantos da Terra. A igreja se destaca por seu compromisso com a educação espiritual\, o serviço comunitário e a promoção da unidade entre os fiéis. A celebração dos 45 anos é também uma oportunidade para reafirmar esse compromisso e renovar a visão de um futuro repleto de novas conquistas e desafios. \nOs 45 anos da Igreja Batista Independente Filadélfia são um testemunho do poder da fé e da importância da comunidade em caminhar juntos em Cristo. A celebração será uma ocasião para unir os membros da igreja\, antigos e novos\, em um espírito de gratidão e adoração\, reconhecendo o impacto que a IBF teve e continuará a ter na vida de muitas pessoas. \nVenha fazer parte desta celebração memorável e juntar-se a nós na ação de graças por todos os anos de bênçãos\, crescimento e transformação. O aniversário de 45 anos da IBF é mais do que uma data; é uma oportunidade para celebrar a fidelidade de Deus e renovar o nosso compromisso com a missão que Ele nos confiou.
URL:https://igrejabatistafiladelfia.org/event/45o-aniversario-da-ibf/
CATEGORIES:Calendário de Atividades,Eventos Especiais
ATTACH;FMTTYPE=image/jpeg:https://igrejabatistafiladelfia.org/wp-content/uploads/2024/08/Aniversario-Igreja.jpg
END:VEVENT
BEGIN:VEVENT
DTSTART;TZID=America/Sao_Paulo:20240914T190000
DTEND;TZID=America/Sao_Paulo:20240914T210000
DTSTAMP:20260423T034723
CREATED:20240910T201655Z
LAST-MODIFIED:20241121T191135Z
UID:2659-1726340400-1726347600@igrejabatistafiladelfia.org
SUMMARY:Musical "Para que outros possam viver"
DESCRIPTION:No dia 14 de setembro\, às 19h\, você está convidado a vivenciar uma noite verdadeiramente impactante com o musical da Mobi: “Para que Outros Possam Viver”. \nPrepare-se para ser tocado por uma história poderosa que promete inspirar e transformar. Este musical é uma celebração de vida\, esperança e fé\, trazendo à tona mensagens profundas e emocionantes. Será uma oportunidade única para refletir sobre o impacto de nossas ações e o poder da solidariedade. \nData: 14 de setembro\nHora: 19h\nLocal: Igreja Batista Filadélfia \nNão perca essa chance de experimentar uma noite de música\, emoção e transformação. Esperamos vê-lo lá para compartilhar este momento especial e inesquecível! \nVenha e seja parte dessa experiência que promete tocar corações e inspirar vidas!
URL:https://igrejabatistafiladelfia.org/event/musical-para-que-outros-possam-viver/
LOCATION:Igreja Batista Filadélfia\, R. Profa. Edelvira de Oliveira\, 679\, Feira de Santana\, Bahia\, 40301-110\, Brazil
CATEGORIES:Calendário de Atividades,Eventos Especiais
ATTACH;FMTTYPE=image/jpeg:https://igrejabatistafiladelfia.org/wp-content/uploads/2024/09/mobi-musical.jpg
END:VEVENT
END:VCALENDAR